BEGIN:VCALENDAR
VERSION:2.0
PRODID:-//Cameroon Cigar Lounge - ECPv6.15.20//NONSGML v1.0//EN
CALSCALE:GREGORIAN
METHOD:PUBLISH
X-WR-CALNAME:Cameroon Cigar Lounge
X-ORIGINAL-URL:https://cameroonlounge.com
X-WR-CALDESC:Events for Cameroon Cigar Lounge
REFRESH-INTERVAL;VALUE=DURATION:PT1H
X-Robots-Tag:noindex
X-PUBLISHED-TTL:PT1H
BEGIN:VTIMEZONE
TZID:America/New_York
BEGIN:DAYLIGHT
TZOFFSETFROM:-0500
TZOFFSETTO:-0400
TZNAME:EDT
DTSTART:20220313T070000
END:DAYLIGHT
BEGIN:STANDARD
TZOFFSETFROM:-0400
TZOFFSETTO:-0500
TZNAME:EST
DTSTART:20221106T060000
END:STANDARD
BEGIN:DAYLIGHT
TZOFFSETFROM:-0500
TZOFFSETTO:-0400
TZNAME:EDT
DTSTART:20230312T070000
END:DAYLIGHT
BEGIN:STANDARD
TZOFFSETFROM:-0400
TZOFFSETTO:-0500
TZNAME:EST
DTSTART:20231105T060000
END:STANDARD
BEGIN:DAYLIGHT
TZOFFSETFROM:-0500
TZOFFSETTO:-0400
TZNAME:EDT
DTSTART:20240310T070000
END:DAYLIGHT
BEGIN:STANDARD
TZOFFSETFROM:-0400
TZOFFSETTO:-0500
TZNAME:EST
DTSTART:20241103T060000
END:STANDARD
END:VTIMEZONE
BEGIN:VEVENT
DTSTART;TZID=America/New_York:20230301T160000
DTEND;TZID=America/New_York:20230301T200000
DTSTAMP:20260422T074426
CREATED:20220815T020706Z
LAST-MODIFIED:20220815T021604Z
UID:10000182-1677686400-1677700800@cameroonlounge.com
SUMMARY:Old Fashioned Wednesday
DESCRIPTION:Grab our delicious house Old Fashioned\, plus a featured cigar for $15!
URL:https://cameroonlounge.com/event/old-fashioned-wednesday/2023-03-01/
END:VEVENT
BEGIN:VEVENT
DTSTART;TZID=America/New_York:20230307T160000
DTEND;TZID=America/New_York:20230307T200000
DTSTAMP:20260422T074426
CREATED:20220815T020038Z
LAST-MODIFIED:20220815T020550Z
UID:10000037-1678204800-1678219200@cameroonlounge.com
SUMMARY:$10 Tuesday
DESCRIPTION:Grab any draft beer + our weekly featured cigar for ten bucks! Available every Tuesday from 4-8pm!
URL:https://cameroonlounge.com/event/10-tuesday/2023-03-07/
END:VEVENT
BEGIN:VEVENT
DTSTART;TZID=America/New_York:20230308T160000
DTEND;TZID=America/New_York:20230308T200000
DTSTAMP:20260422T074426
CREATED:20220815T020706Z
LAST-MODIFIED:20220815T021604Z
UID:10000183-1678291200-1678305600@cameroonlounge.com
SUMMARY:Old Fashioned Wednesday
DESCRIPTION:Grab our delicious house Old Fashioned\, plus a featured cigar for $15!
URL:https://cameroonlounge.com/event/old-fashioned-wednesday/2023-03-08/
END:VEVENT
BEGIN:VEVENT
DTSTART;TZID=America/New_York:20230314T160000
DTEND;TZID=America/New_York:20230314T200000
DTSTAMP:20260422T074426
CREATED:20220815T020038Z
LAST-MODIFIED:20220815T020550Z
UID:10000038-1678809600-1678824000@cameroonlounge.com
SUMMARY:$10 Tuesday
DESCRIPTION:Grab any draft beer + our weekly featured cigar for ten bucks! Available every Tuesday from 4-8pm!
URL:https://cameroonlounge.com/event/10-tuesday/2023-03-14/
END:VEVENT
BEGIN:VEVENT
DTSTART;TZID=America/New_York:20230315T160000
DTEND;TZID=America/New_York:20230315T200000
DTSTAMP:20260422T074426
CREATED:20220815T020706Z
LAST-MODIFIED:20220815T021604Z
UID:10000184-1678896000-1678910400@cameroonlounge.com
SUMMARY:Old Fashioned Wednesday
DESCRIPTION:Grab our delicious house Old Fashioned\, plus a featured cigar for $15!
URL:https://cameroonlounge.com/event/old-fashioned-wednesday/2023-03-15/
END:VEVENT
BEGIN:VEVENT
DTSTART;TZID=America/New_York:20230321T160000
DTEND;TZID=America/New_York:20230321T200000
DTSTAMP:20260422T074426
CREATED:20220815T020038Z
LAST-MODIFIED:20220815T020550Z
UID:10000039-1679414400-1679428800@cameroonlounge.com
SUMMARY:$10 Tuesday
DESCRIPTION:Grab any draft beer + our weekly featured cigar for ten bucks! Available every Tuesday from 4-8pm!
URL:https://cameroonlounge.com/event/10-tuesday/2023-03-21/
END:VEVENT
BEGIN:VEVENT
DTSTART;TZID=America/New_York:20230322T160000
DTEND;TZID=America/New_York:20230322T200000
DTSTAMP:20260422T074426
CREATED:20220815T020706Z
LAST-MODIFIED:20220815T021604Z
UID:10000185-1679500800-1679515200@cameroonlounge.com
SUMMARY:Old Fashioned Wednesday
DESCRIPTION:Grab our delicious house Old Fashioned\, plus a featured cigar for $15!
URL:https://cameroonlounge.com/event/old-fashioned-wednesday/2023-03-22/
END:VEVENT
BEGIN:VEVENT
DTSTART;TZID=America/New_York:20230328T160000
DTEND;TZID=America/New_York:20230328T200000
DTSTAMP:20260422T074426
CREATED:20220815T020038Z
LAST-MODIFIED:20220815T020550Z
UID:10000040-1680019200-1680033600@cameroonlounge.com
SUMMARY:$10 Tuesday
DESCRIPTION:Grab any draft beer + our weekly featured cigar for ten bucks! Available every Tuesday from 4-8pm!
URL:https://cameroonlounge.com/event/10-tuesday/2023-03-28/
END:VEVENT
BEGIN:VEVENT
DTSTART;TZID=America/New_York:20230329T160000
DTEND;TZID=America/New_York:20230329T200000
DTSTAMP:20260422T074426
CREATED:20220815T020706Z
LAST-MODIFIED:20220815T021604Z
UID:10000186-1680105600-1680120000@cameroonlounge.com
SUMMARY:Old Fashioned Wednesday
DESCRIPTION:Grab our delicious house Old Fashioned\, plus a featured cigar for $15!
URL:https://cameroonlounge.com/event/old-fashioned-wednesday/2023-03-29/
END:VEVENT
END:VCALENDAR