BEGIN:VCALENDAR
VERSION:2.0
PRODID:-//Cameroon Cigar Lounge - ECPv6.15.20//NONSGML v1.0//EN
CALSCALE:GREGORIAN
METHOD:PUBLISH
X-WR-CALNAME:Cameroon Cigar Lounge
X-ORIGINAL-URL:https://cameroonlounge.com
X-WR-CALDESC:Events for Cameroon Cigar Lounge
REFRESH-INTERVAL;VALUE=DURATION:PT1H
X-Robots-Tag:noindex
X-PUBLISHED-TTL:PT1H
BEGIN:VTIMEZONE
TZID:America/New_York
BEGIN:DAYLIGHT
TZOFFSETFROM:-0500
TZOFFSETTO:-0400
TZNAME:EDT
DTSTART:20220313T070000
END:DAYLIGHT
BEGIN:STANDARD
TZOFFSETFROM:-0400
TZOFFSETTO:-0500
TZNAME:EST
DTSTART:20221106T060000
END:STANDARD
BEGIN:DAYLIGHT
TZOFFSETFROM:-0500
TZOFFSETTO:-0400
TZNAME:EDT
DTSTART:20230312T070000
END:DAYLIGHT
BEGIN:STANDARD
TZOFFSETFROM:-0400
TZOFFSETTO:-0500
TZNAME:EST
DTSTART:20231105T060000
END:STANDARD
BEGIN:DAYLIGHT
TZOFFSETFROM:-0500
TZOFFSETTO:-0400
TZNAME:EDT
DTSTART:20240310T070000
END:DAYLIGHT
BEGIN:STANDARD
TZOFFSETFROM:-0400
TZOFFSETTO:-0500
TZNAME:EST
DTSTART:20241103T060000
END:STANDARD
END:VTIMEZONE
BEGIN:VEVENT
DTSTART;TZID=America/New_York:20230606T160000
DTEND;TZID=America/New_York:20230606T200000
DTSTAMP:20260422T022533
CREATED:20220815T020038Z
LAST-MODIFIED:20220815T020550Z
UID:10000050-1686067200-1686081600@cameroonlounge.com
SUMMARY:$10 Tuesday
DESCRIPTION:Grab any draft beer + our weekly featured cigar for ten bucks! Available every Tuesday from 4-8pm!
URL:https://cameroonlounge.com/event/10-tuesday/2023-06-06/
END:VEVENT
BEGIN:VEVENT
DTSTART;TZID=America/New_York:20230607T160000
DTEND;TZID=America/New_York:20230607T200000
DTSTAMP:20260422T022533
CREATED:20220815T020706Z
LAST-MODIFIED:20220815T021604Z
UID:10000196-1686153600-1686168000@cameroonlounge.com
SUMMARY:Old Fashioned Wednesday
DESCRIPTION:Grab our delicious house Old Fashioned\, plus a featured cigar for $15!
URL:https://cameroonlounge.com/event/old-fashioned-wednesday/2023-06-07/
END:VEVENT
BEGIN:VEVENT
DTSTART;TZID=America/New_York:20230613T160000
DTEND;TZID=America/New_York:20230613T200000
DTSTAMP:20260422T022533
CREATED:20220815T020038Z
LAST-MODIFIED:20220815T020550Z
UID:10000051-1686672000-1686686400@cameroonlounge.com
SUMMARY:$10 Tuesday
DESCRIPTION:Grab any draft beer + our weekly featured cigar for ten bucks! Available every Tuesday from 4-8pm!
URL:https://cameroonlounge.com/event/10-tuesday/2023-06-13/
END:VEVENT
BEGIN:VEVENT
DTSTART;TZID=America/New_York:20230614T160000
DTEND;TZID=America/New_York:20230614T200000
DTSTAMP:20260422T022533
CREATED:20220815T020706Z
LAST-MODIFIED:20220815T021604Z
UID:10000197-1686758400-1686772800@cameroonlounge.com
SUMMARY:Old Fashioned Wednesday
DESCRIPTION:Grab our delicious house Old Fashioned\, plus a featured cigar for $15!
URL:https://cameroonlounge.com/event/old-fashioned-wednesday/2023-06-14/
END:VEVENT
BEGIN:VEVENT
DTSTART;TZID=America/New_York:20230620T160000
DTEND;TZID=America/New_York:20230620T200000
DTSTAMP:20260422T022533
CREATED:20220815T020038Z
LAST-MODIFIED:20220815T020550Z
UID:10000052-1687276800-1687291200@cameroonlounge.com
SUMMARY:$10 Tuesday
DESCRIPTION:Grab any draft beer + our weekly featured cigar for ten bucks! Available every Tuesday from 4-8pm!
URL:https://cameroonlounge.com/event/10-tuesday/2023-06-20/
END:VEVENT
BEGIN:VEVENT
DTSTART;TZID=America/New_York:20230621T160000
DTEND;TZID=America/New_York:20230621T200000
DTSTAMP:20260422T022533
CREATED:20220815T020706Z
LAST-MODIFIED:20220815T021604Z
UID:10000198-1687363200-1687377600@cameroonlounge.com
SUMMARY:Old Fashioned Wednesday
DESCRIPTION:Grab our delicious house Old Fashioned\, plus a featured cigar for $15!
URL:https://cameroonlounge.com/event/old-fashioned-wednesday/2023-06-21/
END:VEVENT
BEGIN:VEVENT
DTSTART;TZID=America/New_York:20230627T160000
DTEND;TZID=America/New_York:20230627T200000
DTSTAMP:20260422T022533
CREATED:20220815T020038Z
LAST-MODIFIED:20220815T020550Z
UID:10000053-1687881600-1687896000@cameroonlounge.com
SUMMARY:$10 Tuesday
DESCRIPTION:Grab any draft beer + our weekly featured cigar for ten bucks! Available every Tuesday from 4-8pm!
URL:https://cameroonlounge.com/event/10-tuesday/2023-06-27/
END:VEVENT
BEGIN:VEVENT
DTSTART;TZID=America/New_York:20230628T160000
DTEND;TZID=America/New_York:20230628T200000
DTSTAMP:20260422T022533
CREATED:20220815T020706Z
LAST-MODIFIED:20220815T021604Z
UID:10000199-1687968000-1687982400@cameroonlounge.com
SUMMARY:Old Fashioned Wednesday
DESCRIPTION:Grab our delicious house Old Fashioned\, plus a featured cigar for $15!
URL:https://cameroonlounge.com/event/old-fashioned-wednesday/2023-06-28/
END:VEVENT
END:VCALENDAR