BEGIN:VCALENDAR
VERSION:2.0
PRODID:-//Cameroon Cigar Lounge - ECPv6.15.20//NONSGML v1.0//EN
CALSCALE:GREGORIAN
METHOD:PUBLISH
X-ORIGINAL-URL:https://cameroonlounge.com
X-WR-CALDESC:Events for Cameroon Cigar Lounge
REFRESH-INTERVAL;VALUE=DURATION:PT1H
X-Robots-Tag:noindex
X-PUBLISHED-TTL:PT1H
BEGIN:VTIMEZONE
TZID:America/New_York
BEGIN:DAYLIGHT
TZOFFSETFROM:-0500
TZOFFSETTO:-0400
TZNAME:EDT
DTSTART:20280312T070000
END:DAYLIGHT
BEGIN:STANDARD
TZOFFSETFROM:-0400
TZOFFSETTO:-0500
TZNAME:EST
DTSTART:20281105T060000
END:STANDARD
BEGIN:DAYLIGHT
TZOFFSETFROM:-0500
TZOFFSETTO:-0400
TZNAME:EDT
DTSTART:20290311T070000
END:DAYLIGHT
BEGIN:STANDARD
TZOFFSETFROM:-0400
TZOFFSETTO:-0500
TZNAME:EST
DTSTART:20291104T060000
END:STANDARD
BEGIN:DAYLIGHT
TZOFFSETFROM:-0500
TZOFFSETTO:-0400
TZNAME:EDT
DTSTART:20300310T070000
END:DAYLIGHT
BEGIN:STANDARD
TZOFFSETFROM:-0400
TZOFFSETTO:-0500
TZNAME:EST
DTSTART:20301103T060000
END:STANDARD
END:VTIMEZONE
BEGIN:VEVENT
DTSTART;TZID=America/New_York:20291002T160000
DTEND;TZID=America/New_York:20291002T200000
DTSTAMP:20260421T060847
CREATED:20260109T012718Z
LAST-MODIFIED:20260109T015006Z
UID:10000565-1885651200-1885665600@cameroonlounge.com
SUMMARY:$10 Tuesday
DESCRIPTION:
URL:https://cameroonlounge.com/event/10-tuesday-2/2029-10-02/
LOCATION:Cameroon Lounge\, 207 Trade Street\, Greer\, 29651
CATEGORIES:Weekly Events
END:VEVENT
BEGIN:VEVENT
DTSTART;TZID=America/New_York:20291003T160000
DTEND;TZID=America/New_York:20291003T200000
DTSTAMP:20260421T060847
CREATED:20260109T160344Z
LAST-MODIFIED:20260109T160512Z
UID:10000826-1885737600-1885752000@cameroonlounge.com
SUMMARY:Old Fashioned Wednesday
DESCRIPTION:
URL:https://cameroonlounge.com/event/3455/2029-10-03/
END:VEVENT
BEGIN:VEVENT
DTSTART;TZID=America/New_York:20291009T160000
DTEND;TZID=America/New_York:20291009T200000
DTSTAMP:20260421T060847
CREATED:20260109T012718Z
LAST-MODIFIED:20260109T015006Z
UID:10000566-1886256000-1886270400@cameroonlounge.com
SUMMARY:$10 Tuesday
DESCRIPTION:
URL:https://cameroonlounge.com/event/10-tuesday-2/2029-10-09/
LOCATION:Cameroon Lounge\, 207 Trade Street\, Greer\, 29651
CATEGORIES:Weekly Events
END:VEVENT
BEGIN:VEVENT
DTSTART;TZID=America/New_York:20291010T160000
DTEND;TZID=America/New_York:20291010T200000
DTSTAMP:20260421T060847
CREATED:20260109T160344Z
LAST-MODIFIED:20260109T160512Z
UID:10000827-1886342400-1886356800@cameroonlounge.com
SUMMARY:Old Fashioned Wednesday
DESCRIPTION:
URL:https://cameroonlounge.com/event/3455/2029-10-10/
END:VEVENT
BEGIN:VEVENT
DTSTART;TZID=America/New_York:20291016T160000
DTEND;TZID=America/New_York:20291016T200000
DTSTAMP:20260421T060847
CREATED:20260109T012718Z
LAST-MODIFIED:20260109T015006Z
UID:10000567-1886860800-1886875200@cameroonlounge.com
SUMMARY:$10 Tuesday
DESCRIPTION:
URL:https://cameroonlounge.com/event/10-tuesday-2/2029-10-16/
LOCATION:Cameroon Lounge\, 207 Trade Street\, Greer\, 29651
CATEGORIES:Weekly Events
END:VEVENT
BEGIN:VEVENT
DTSTART;TZID=America/New_York:20291017T160000
DTEND;TZID=America/New_York:20291017T200000
DTSTAMP:20260421T060847
CREATED:20260109T160344Z
LAST-MODIFIED:20260109T160512Z
UID:10000828-1886947200-1886961600@cameroonlounge.com
SUMMARY:Old Fashioned Wednesday
DESCRIPTION:
URL:https://cameroonlounge.com/event/3455/2029-10-17/
END:VEVENT
BEGIN:VEVENT
DTSTART;TZID=America/New_York:20291023T160000
DTEND;TZID=America/New_York:20291023T200000
DTSTAMP:20260421T060847
CREATED:20260109T012718Z
LAST-MODIFIED:20260109T015006Z
UID:10000568-1887465600-1887480000@cameroonlounge.com
SUMMARY:$10 Tuesday
DESCRIPTION:
URL:https://cameroonlounge.com/event/10-tuesday-2/2029-10-23/
LOCATION:Cameroon Lounge\, 207 Trade Street\, Greer\, 29651
CATEGORIES:Weekly Events
END:VEVENT
BEGIN:VEVENT
DTSTART;TZID=America/New_York:20291024T160000
DTEND;TZID=America/New_York:20291024T200000
DTSTAMP:20260421T060847
CREATED:20260109T160344Z
LAST-MODIFIED:20260109T160512Z
UID:10000829-1887552000-1887566400@cameroonlounge.com
SUMMARY:Old Fashioned Wednesday
DESCRIPTION:
URL:https://cameroonlounge.com/event/3455/2029-10-24/
END:VEVENT
BEGIN:VEVENT
DTSTART;TZID=America/New_York:20291030T160000
DTEND;TZID=America/New_York:20291030T200000
DTSTAMP:20260421T060847
CREATED:20260109T012718Z
LAST-MODIFIED:20260109T015006Z
UID:10000569-1888070400-1888084800@cameroonlounge.com
SUMMARY:$10 Tuesday
DESCRIPTION:
URL:https://cameroonlounge.com/event/10-tuesday-2/2029-10-30/
LOCATION:Cameroon Lounge\, 207 Trade Street\, Greer\, 29651
CATEGORIES:Weekly Events
END:VEVENT
BEGIN:VEVENT
DTSTART;TZID=America/New_York:20291031T160000
DTEND;TZID=America/New_York:20291031T200000
DTSTAMP:20260421T060847
CREATED:20260109T160344Z
LAST-MODIFIED:20260109T160512Z
UID:10000830-1888156800-1888171200@cameroonlounge.com
SUMMARY:Old Fashioned Wednesday
DESCRIPTION:
URL:https://cameroonlounge.com/event/3455/2029-10-31/
END:VEVENT
END:VCALENDAR