BEGIN:VCALENDAR
VERSION:2.0
PRODID:-//Cameroon Cigar Lounge - ECPv6.15.20//NONSGML v1.0//EN
CALSCALE:GREGORIAN
METHOD:PUBLISH
X-ORIGINAL-URL:https://cameroonlounge.com
X-WR-CALDESC:Events for Cameroon Cigar Lounge
REFRESH-INTERVAL;VALUE=DURATION:PT1H
X-Robots-Tag:noindex
X-PUBLISHED-TTL:PT1H
BEGIN:VTIMEZONE
TZID:America/New_York
BEGIN:DAYLIGHT
TZOFFSETFROM:-0500
TZOFFSETTO:-0400
TZNAME:EDT
DTSTART:20290311T070000
END:DAYLIGHT
BEGIN:STANDARD
TZOFFSETFROM:-0400
TZOFFSETTO:-0500
TZNAME:EST
DTSTART:20291104T060000
END:STANDARD
BEGIN:DAYLIGHT
TZOFFSETFROM:-0500
TZOFFSETTO:-0400
TZNAME:EDT
DTSTART:20300310T070000
END:DAYLIGHT
BEGIN:STANDARD
TZOFFSETFROM:-0400
TZOFFSETTO:-0500
TZNAME:EST
DTSTART:20301103T060000
END:STANDARD
BEGIN:DAYLIGHT
TZOFFSETFROM:-0500
TZOFFSETTO:-0400
TZNAME:EDT
DTSTART:20310309T070000
END:DAYLIGHT
BEGIN:STANDARD
TZOFFSETFROM:-0400
TZOFFSETTO:-0500
TZNAME:EST
DTSTART:20311102T060000
END:STANDARD
END:VTIMEZONE
BEGIN:VEVENT
DTSTART;TZID=America/New_York:20300604T160000
DTEND;TZID=America/New_York:20300604T200000
DTSTAMP:20260422T032357
CREATED:20260109T012718Z
LAST-MODIFIED:20260109T015006Z
UID:10000600-1906819200-1906833600@cameroonlounge.com
SUMMARY:$10 Tuesday
DESCRIPTION:
URL:https://cameroonlounge.com/event/10-tuesday-2/2030-06-04/
LOCATION:Cameroon Lounge\, 207 Trade Street\, Greer\, 29651
CATEGORIES:Weekly Events
END:VEVENT
BEGIN:VEVENT
DTSTART;TZID=America/New_York:20300605T160000
DTEND;TZID=America/New_York:20300605T200000
DTSTAMP:20260422T032357
CREATED:20260109T160344Z
LAST-MODIFIED:20260109T160512Z
UID:10000861-1906905600-1906920000@cameroonlounge.com
SUMMARY:Old Fashioned Wednesday
DESCRIPTION:
URL:https://cameroonlounge.com/event/3455/2030-06-05/
END:VEVENT
BEGIN:VEVENT
DTSTART;TZID=America/New_York:20300611T160000
DTEND;TZID=America/New_York:20300611T200000
DTSTAMP:20260422T032357
CREATED:20260109T012718Z
LAST-MODIFIED:20260109T015006Z
UID:10000601-1907424000-1907438400@cameroonlounge.com
SUMMARY:$10 Tuesday
DESCRIPTION:
URL:https://cameroonlounge.com/event/10-tuesday-2/2030-06-11/
LOCATION:Cameroon Lounge\, 207 Trade Street\, Greer\, 29651
CATEGORIES:Weekly Events
END:VEVENT
BEGIN:VEVENT
DTSTART;TZID=America/New_York:20300612T160000
DTEND;TZID=America/New_York:20300612T200000
DTSTAMP:20260422T032357
CREATED:20260109T160344Z
LAST-MODIFIED:20260109T160512Z
UID:10000862-1907510400-1907524800@cameroonlounge.com
SUMMARY:Old Fashioned Wednesday
DESCRIPTION:
URL:https://cameroonlounge.com/event/3455/2030-06-12/
END:VEVENT
BEGIN:VEVENT
DTSTART;TZID=America/New_York:20300618T160000
DTEND;TZID=America/New_York:20300618T200000
DTSTAMP:20260422T032357
CREATED:20260109T012718Z
LAST-MODIFIED:20260109T015006Z
UID:10000602-1908028800-1908043200@cameroonlounge.com
SUMMARY:$10 Tuesday
DESCRIPTION:
URL:https://cameroonlounge.com/event/10-tuesday-2/2030-06-18/
LOCATION:Cameroon Lounge\, 207 Trade Street\, Greer\, 29651
CATEGORIES:Weekly Events
END:VEVENT
BEGIN:VEVENT
DTSTART;TZID=America/New_York:20300619T160000
DTEND;TZID=America/New_York:20300619T200000
DTSTAMP:20260422T032357
CREATED:20260109T160344Z
LAST-MODIFIED:20260109T160512Z
UID:10000863-1908115200-1908129600@cameroonlounge.com
SUMMARY:Old Fashioned Wednesday
DESCRIPTION:
URL:https://cameroonlounge.com/event/3455/2030-06-19/
END:VEVENT
BEGIN:VEVENT
DTSTART;TZID=America/New_York:20300625T160000
DTEND;TZID=America/New_York:20300625T200000
DTSTAMP:20260422T032357
CREATED:20260109T012718Z
LAST-MODIFIED:20260109T015006Z
UID:10000603-1908633600-1908648000@cameroonlounge.com
SUMMARY:$10 Tuesday
DESCRIPTION:
URL:https://cameroonlounge.com/event/10-tuesday-2/2030-06-25/
LOCATION:Cameroon Lounge\, 207 Trade Street\, Greer\, 29651
CATEGORIES:Weekly Events
END:VEVENT
BEGIN:VEVENT
DTSTART;TZID=America/New_York:20300626T160000
DTEND;TZID=America/New_York:20300626T200000
DTSTAMP:20260422T032357
CREATED:20260109T160344Z
LAST-MODIFIED:20260109T160512Z
UID:10000864-1908720000-1908734400@cameroonlounge.com
SUMMARY:Old Fashioned Wednesday
DESCRIPTION:
URL:https://cameroonlounge.com/event/3455/2030-06-26/
END:VEVENT
END:VCALENDAR