BEGIN:VCALENDAR
VERSION:2.0
PRODID:-//Cameroon Cigar Lounge - ECPv6.15.20//NONSGML v1.0//EN
CALSCALE:GREGORIAN
METHOD:PUBLISH
X-WR-CALNAME:Cameroon Cigar Lounge
X-ORIGINAL-URL:https://cameroonlounge.com
X-WR-CALDESC:Events for Cameroon Cigar Lounge
REFRESH-INTERVAL;VALUE=DURATION:PT1H
X-Robots-Tag:noindex
X-PUBLISHED-TTL:PT1H
BEGIN:VTIMEZONE
TZID:America/New_York
BEGIN:DAYLIGHT
TZOFFSETFROM:-0500
TZOFFSETTO:-0400
TZNAME:EDT
DTSTART:20290311T070000
END:DAYLIGHT
BEGIN:STANDARD
TZOFFSETFROM:-0400
TZOFFSETTO:-0500
TZNAME:EST
DTSTART:20291104T060000
END:STANDARD
BEGIN:DAYLIGHT
TZOFFSETFROM:-0500
TZOFFSETTO:-0400
TZNAME:EDT
DTSTART:20300310T070000
END:DAYLIGHT
BEGIN:STANDARD
TZOFFSETFROM:-0400
TZOFFSETTO:-0500
TZNAME:EST
DTSTART:20301103T060000
END:STANDARD
BEGIN:DAYLIGHT
TZOFFSETFROM:-0500
TZOFFSETTO:-0400
TZNAME:EDT
DTSTART:20310309T070000
END:DAYLIGHT
BEGIN:STANDARD
TZOFFSETFROM:-0400
TZOFFSETTO:-0500
TZNAME:EST
DTSTART:20311102T060000
END:STANDARD
END:VTIMEZONE
BEGIN:VEVENT
DTSTART;TZID=America/New_York:20301001T160000
DTEND;TZID=America/New_York:20301001T200000
DTSTAMP:20260422T082315
CREATED:20260109T012718Z
LAST-MODIFIED:20260109T015006Z
UID:10000617-1917100800-1917115200@cameroonlounge.com
SUMMARY:$10 Tuesday
DESCRIPTION:
URL:https://cameroonlounge.com/event/10-tuesday-2/2030-10-01/
LOCATION:Cameroon Lounge\, 207 Trade Street\, Greer\, 29651
CATEGORIES:Weekly Events
END:VEVENT
BEGIN:VEVENT
DTSTART;TZID=America/New_York:20301002T160000
DTEND;TZID=America/New_York:20301002T200000
DTSTAMP:20260422T082315
CREATED:20260109T160344Z
LAST-MODIFIED:20260109T160512Z
UID:10000878-1917187200-1917201600@cameroonlounge.com
SUMMARY:Old Fashioned Wednesday
DESCRIPTION:
URL:https://cameroonlounge.com/event/3455/2030-10-02/
END:VEVENT
BEGIN:VEVENT
DTSTART;TZID=America/New_York:20301008T160000
DTEND;TZID=America/New_York:20301008T200000
DTSTAMP:20260422T082315
CREATED:20260109T012718Z
LAST-MODIFIED:20260109T015006Z
UID:10000618-1917705600-1917720000@cameroonlounge.com
SUMMARY:$10 Tuesday
DESCRIPTION:
URL:https://cameroonlounge.com/event/10-tuesday-2/2030-10-08/
LOCATION:Cameroon Lounge\, 207 Trade Street\, Greer\, 29651
CATEGORIES:Weekly Events
END:VEVENT
BEGIN:VEVENT
DTSTART;TZID=America/New_York:20301009T160000
DTEND;TZID=America/New_York:20301009T200000
DTSTAMP:20260422T082315
CREATED:20260109T160344Z
LAST-MODIFIED:20260109T160512Z
UID:10000879-1917792000-1917806400@cameroonlounge.com
SUMMARY:Old Fashioned Wednesday
DESCRIPTION:
URL:https://cameroonlounge.com/event/3455/2030-10-09/
END:VEVENT
BEGIN:VEVENT
DTSTART;TZID=America/New_York:20301015T160000
DTEND;TZID=America/New_York:20301015T200000
DTSTAMP:20260422T082315
CREATED:20260109T012718Z
LAST-MODIFIED:20260109T015006Z
UID:10000619-1918310400-1918324800@cameroonlounge.com
SUMMARY:$10 Tuesday
DESCRIPTION:
URL:https://cameroonlounge.com/event/10-tuesday-2/2030-10-15/
LOCATION:Cameroon Lounge\, 207 Trade Street\, Greer\, 29651
CATEGORIES:Weekly Events
END:VEVENT
BEGIN:VEVENT
DTSTART;TZID=America/New_York:20301016T160000
DTEND;TZID=America/New_York:20301016T200000
DTSTAMP:20260422T082315
CREATED:20260109T160344Z
LAST-MODIFIED:20260109T160512Z
UID:10000880-1918396800-1918411200@cameroonlounge.com
SUMMARY:Old Fashioned Wednesday
DESCRIPTION:
URL:https://cameroonlounge.com/event/3455/2030-10-16/
END:VEVENT
BEGIN:VEVENT
DTSTART;TZID=America/New_York:20301022T160000
DTEND;TZID=America/New_York:20301022T200000
DTSTAMP:20260422T082315
CREATED:20260109T012718Z
LAST-MODIFIED:20260109T015006Z
UID:10000620-1918915200-1918929600@cameroonlounge.com
SUMMARY:$10 Tuesday
DESCRIPTION:
URL:https://cameroonlounge.com/event/10-tuesday-2/2030-10-22/
LOCATION:Cameroon Lounge\, 207 Trade Street\, Greer\, 29651
CATEGORIES:Weekly Events
END:VEVENT
BEGIN:VEVENT
DTSTART;TZID=America/New_York:20301023T160000
DTEND;TZID=America/New_York:20301023T200000
DTSTAMP:20260422T082315
CREATED:20260109T160344Z
LAST-MODIFIED:20260109T160512Z
UID:10000881-1919001600-1919016000@cameroonlounge.com
SUMMARY:Old Fashioned Wednesday
DESCRIPTION:
URL:https://cameroonlounge.com/event/3455/2030-10-23/
END:VEVENT
BEGIN:VEVENT
DTSTART;TZID=America/New_York:20301029T160000
DTEND;TZID=America/New_York:20301029T200000
DTSTAMP:20260422T082315
CREATED:20260109T012718Z
LAST-MODIFIED:20260109T015006Z
UID:10000621-1919520000-1919534400@cameroonlounge.com
SUMMARY:$10 Tuesday
DESCRIPTION:
URL:https://cameroonlounge.com/event/10-tuesday-2/2030-10-29/
LOCATION:Cameroon Lounge\, 207 Trade Street\, Greer\, 29651
CATEGORIES:Weekly Events
END:VEVENT
BEGIN:VEVENT
DTSTART;TZID=America/New_York:20301030T160000
DTEND;TZID=America/New_York:20301030T200000
DTSTAMP:20260422T082315
CREATED:20260109T160344Z
LAST-MODIFIED:20260109T160512Z
UID:10000882-1919606400-1919620800@cameroonlounge.com
SUMMARY:Old Fashioned Wednesday
DESCRIPTION:
URL:https://cameroonlounge.com/event/3455/2030-10-30/
END:VEVENT
END:VCALENDAR